BEGIN:VCALENDAR
VERSION:2.0
PRODID:icalendar-ruby
CALSCALE:GREGORIAN
METHOD:PUBLISH
BEGIN:VEVENT
DTSTAMP:20260422T161640Z
UID:47-478133@covenantdtc.org
DTSTART:20260607T173000Z
DTEND:20260607T183000Z
CLASS:PUBLIC
CREATED:20260311T110013
DESCRIPTION:Monthly Learning Lounge Update:\nPick up your books! We have a 
 stack of 10 copies of "The Art of Neighboring" by Jay Pathak and Dave Runy
 on for anyone who'd like a copy. We'll be covering chapters 1-6 in May and
  chapters 7-12 in June. Pick up your copy and join our next Learning Loung
 e on Sunday\, May 3rd after worship. \n-------------\nThe first Sunday of
  every month after worship we will be offering a "Learning Lounge\," an ad
 ult education opportunity led by Pastor Alex\, Pastor Dani\, and/or a pari
 sh associate. We'll cover a wide range of topics from Bible Study to theol
 ogical discussions and more! Topics will be formed by the help of the grou
 p attending. So\, if there is something on your mind that you'd like to di
 scuss\, please attend our monthly learning lounge! 
LAST-MODIFIED:20260311T110013
LOCATION:Library
SUMMARY:Adult Education Learning Lounge
URL;VALUE=URI:https://www.covenantdtc.org/events/adult-education-learning-l
 ounge/2026-06-07
ATTACH;FILENAME=Website Event Graphics (2160 x 1080 px)-13.png;FMTTYPE=imag
 e/png:https://dq5pwpg1q8ru0.cloudfront.net/2026/02/18/22/59/07/33a1e20e-d9
 45-403d-8063-a35f8339d8c4/Website%20Event%20Graphics%20(2160%20x%201080%20
 px)-13.png
END:VEVENT
END:VCALENDAR
